BEGIN:VCALENDAR
VERSION:2.0
PRODID:-//McPherson County - ECPv6.15.20//NONSGML v1.0//EN
CALSCALE:GREGORIAN
METHOD:PUBLISH
X-WR-CALNAME:McPherson County
X-ORIGINAL-URL:https://mcphersoncounty.ne.gov
X-WR-CALDESC:Events for McPherson County
REFRESH-INTERVAL;VALUE=DURATION:PT1H
X-Robots-Tag:noindex
X-PUBLISHED-TTL:PT1H
BEGIN:VTIMEZONE
TZID:America/Chicago
BEGIN:DAYLIGHT
TZOFFSETFROM:-0600
TZOFFSETTO:-0500
TZNAME:CDT
DTSTART:20250309T080000
END:DAYLIGHT
BEGIN:STANDARD
TZOFFSETFROM:-0500
TZOFFSETTO:-0600
TZNAME:CST
DTSTART:20251102T070000
END:STANDARD
BEGIN:DAYLIGHT
TZOFFSETFROM:-0600
TZOFFSETTO:-0500
TZNAME:CDT
DTSTART:20260308T080000
END:DAYLIGHT
BEGIN:STANDARD
TZOFFSETFROM:-0500
TZOFFSETTO:-0600
TZNAME:CST
DTSTART:20261101T070000
END:STANDARD
BEGIN:DAYLIGHT
TZOFFSETFROM:-0600
TZOFFSETTO:-0500
TZNAME:CDT
DTSTART:20270314T080000
END:DAYLIGHT
BEGIN:STANDARD
TZOFFSETFROM:-0500
TZOFFSETTO:-0600
TZNAME:CST
DTSTART:20271107T070000
END:STANDARD
BEGIN:DAYLIGHT
TZOFFSETFROM:-0600
TZOFFSETTO:-0500
TZNAME:CDT
DTSTART:20280312T080000
END:DAYLIGHT
BEGIN:STANDARD
TZOFFSETFROM:-0500
TZOFFSETTO:-0600
TZNAME:CST
DTSTART:20281105T070000
END:STANDARD
END:VTIMEZONE
BEGIN:VEVENT
DTSTART;TZID=America/Chicago:20260513T090000
DTEND;TZID=America/Chicago:20260513T090000
DTSTAMP:20260422T033412
CREATED:20250128T180108Z
LAST-MODIFIED:20260305T164819Z
UID:10000465-1778662800-1778662800@mcphersoncounty.ne.gov
SUMMARY:County Board Meeting
DESCRIPTION:This is a county board meeting. An agenda can be found on the Board Meetings page.
URL:https://mcphersoncounty.ne.gov/event/county-board-meeting-2/2026-05-13/
LOCATION:McPherson County Courthouse\, 500 N Anderson St\, Tryon\, NE\, 69167\, United States
CATEGORIES:County Board Meeting
ATTACH;FMTTYPE=image/jpeg:/wp-content/uploads/sites/26/2024/09/townhall.jpg
END:VEVENT
BEGIN:VEVENT
DTSTART;VALUE=DATE:20260525
DTEND;VALUE=DATE:20260526
DTSTAMP:20260422T033412
CREATED:20240429T202532Z
LAST-MODIFIED:20260310T161111Z
UID:10000019-1779667200-1779753599@mcphersoncounty.ne.gov
SUMMARY:Memorial Day - Closed
DESCRIPTION:All Offices Closed
URL:https://mcphersoncounty.ne.gov/event/memorial-day/2026-05-25/
CATEGORIES:Holiday
END:VEVENT
BEGIN:VEVENT
DTSTART;TZID=America/Chicago:20260610T090000
DTEND;TZID=America/Chicago:20260610T090000
DTSTAMP:20260422T033412
CREATED:20250128T180108Z
LAST-MODIFIED:20260305T164819Z
UID:10000466-1781082000-1781082000@mcphersoncounty.ne.gov
SUMMARY:County Board Meeting
DESCRIPTION:This is a county board meeting. An agenda can be found on the Board Meetings page.
URL:https://mcphersoncounty.ne.gov/event/county-board-meeting-2/2026-06-10/
LOCATION:McPherson County Courthouse\, 500 N Anderson St\, Tryon\, NE\, 69167\, United States
CATEGORIES:County Board Meeting
ATTACH;FMTTYPE=image/jpeg:/wp-content/uploads/sites/26/2024/09/townhall.jpg
END:VEVENT
BEGIN:VEVENT
DTSTART;VALUE=DATE:20260619
DTEND;VALUE=DATE:20260620
DTSTAMP:20260422T033412
CREATED:20240429T211306Z
LAST-MODIFIED:20260310T161103Z
UID:10000294-1781827200-1781913599@mcphersoncounty.ne.gov
SUMMARY:Juneteenth - Closed
DESCRIPTION:All Offices Closed
URL:https://mcphersoncounty.ne.gov/event/juneteenth/2026-06-19/
CATEGORIES:Holiday
END:VEVENT
BEGIN:VEVENT
DTSTART;VALUE=DATE:20260703
DTEND;VALUE=DATE:20260704
DTSTAMP:20260422T033412
CREATED:20260413T154811Z
LAST-MODIFIED:20260413T154812Z
UID:10000288-1783036800-1783123199@mcphersoncounty.ne.gov
SUMMARY:Independence Day - Closed
DESCRIPTION:All Offices Closed
URL:https://mcphersoncounty.ne.gov/event/independence-day-2/
CATEGORIES:Holiday
END:VEVENT
BEGIN:VEVENT
DTSTART;TZID=America/Chicago:20260708T090000
DTEND;TZID=America/Chicago:20260708T090000
DTSTAMP:20260422T033412
CREATED:20250128T180108Z
LAST-MODIFIED:20260305T164819Z
UID:10000467-1783501200-1783501200@mcphersoncounty.ne.gov
SUMMARY:County Board Meeting
DESCRIPTION:This is a county board meeting. An agenda can be found on the Board Meetings page.
URL:https://mcphersoncounty.ne.gov/event/county-board-meeting-2/2026-07-08/
LOCATION:McPherson County Courthouse\, 500 N Anderson St\, Tryon\, NE\, 69167\, United States
CATEGORIES:County Board Meeting
ATTACH;FMTTYPE=image/jpeg:/wp-content/uploads/sites/26/2024/09/townhall.jpg
END:VEVENT
BEGIN:VEVENT
DTSTART;TZID=America/Chicago:20260812T090000
DTEND;TZID=America/Chicago:20260812T090000
DTSTAMP:20260422T033412
CREATED:20250128T180108Z
LAST-MODIFIED:20260305T164819Z
UID:10000468-1786525200-1786525200@mcphersoncounty.ne.gov
SUMMARY:County Board Meeting
DESCRIPTION:This is a county board meeting. An agenda can be found on the Board Meetings page.
URL:https://mcphersoncounty.ne.gov/event/county-board-meeting-2/2026-08-12/
LOCATION:McPherson County Courthouse\, 500 N Anderson St\, Tryon\, NE\, 69167\, United States
CATEGORIES:County Board Meeting
ATTACH;FMTTYPE=image/jpeg:/wp-content/uploads/sites/26/2024/09/townhall.jpg
END:VEVENT
BEGIN:VEVENT
DTSTART;VALUE=DATE:20260907
DTEND;VALUE=DATE:20260908
DTSTAMP:20260422T033412
CREATED:20240726T143020Z
LAST-MODIFIED:20260310T161024Z
UID:10000329-1788739200-1788825599@mcphersoncounty.ne.gov
SUMMARY:Labor Day - Closed
DESCRIPTION:All Offices Closed
URL:https://mcphersoncounty.ne.gov/event/labor-day/2026-09-07/
CATEGORIES:Holiday
END:VEVENT
BEGIN:VEVENT
DTSTART;TZID=America/Chicago:20260909T090000
DTEND;TZID=America/Chicago:20260909T090000
DTSTAMP:20260422T033412
CREATED:20250128T180108Z
LAST-MODIFIED:20260305T164819Z
UID:10000469-1788944400-1788944400@mcphersoncounty.ne.gov
SUMMARY:County Board Meeting
DESCRIPTION:This is a county board meeting. An agenda can be found on the Board Meetings page.
URL:https://mcphersoncounty.ne.gov/event/county-board-meeting-2/2026-09-09/
LOCATION:McPherson County Courthouse\, 500 N Anderson St\, Tryon\, NE\, 69167\, United States
CATEGORIES:County Board Meeting
ATTACH;FMTTYPE=image/jpeg:/wp-content/uploads/sites/26/2024/09/townhall.jpg
END:VEVENT
BEGIN:VEVENT
DTSTART;VALUE=DATE:20261012
DTEND;VALUE=DATE:20261013
DTSTAMP:20260422T033412
CREATED:20240429T211622Z
LAST-MODIFIED:20260310T161017Z
UID:10000285-1791763200-1791849599@mcphersoncounty.ne.gov
SUMMARY:Columbus Day - Closed
DESCRIPTION:All Offices Closed
URL:https://mcphersoncounty.ne.gov/event/columbus-day/2026-10-12/
CATEGORIES:Holiday
END:VEVENT
BEGIN:VEVENT
DTSTART;TZID=America/Chicago:20261014T090000
DTEND;TZID=America/Chicago:20261014T090000
DTSTAMP:20260422T033412
CREATED:20250128T180108Z
LAST-MODIFIED:20260305T164819Z
UID:10000470-1791968400-1791968400@mcphersoncounty.ne.gov
SUMMARY:County Board Meeting
DESCRIPTION:This is a county board meeting. An agenda can be found on the Board Meetings page.
URL:https://mcphersoncounty.ne.gov/event/county-board-meeting-2/2026-10-14/
LOCATION:McPherson County Courthouse\, 500 N Anderson St\, Tryon\, NE\, 69167\, United States
CATEGORIES:County Board Meeting
ATTACH;FMTTYPE=image/jpeg:/wp-content/uploads/sites/26/2024/09/townhall.jpg
END:VEVENT
BEGIN:VEVENT
DTSTART;TZID=America/Chicago:20261110T130000
DTEND;TZID=America/Chicago:20261110T130000
DTSTAMP:20260422T033412
CREATED:20260305T165022Z
LAST-MODIFIED:20260305T165050Z
UID:10000471-1794315600-1794315600@mcphersoncounty.ne.gov
SUMMARY:County Board Meeting
DESCRIPTION:This is a county board meeting. An agenda can be found on the Board Meetings page.
URL:https://mcphersoncounty.ne.gov/event/county-board-meeting/
LOCATION:McPherson County Courthouse\, 500 N Anderson St\, Tryon\, NE\, 69167\, United States
CATEGORIES:County Board Meeting
ATTACH;FMTTYPE=image/jpeg:/wp-content/uploads/sites/26/2024/09/townhall.jpg
END:VEVENT
BEGIN:VEVENT
DTSTART;VALUE=DATE:20261111
DTEND;VALUE=DATE:20261112
DTSTAMP:20260422T033412
CREATED:20240429T211701Z
LAST-MODIFIED:20260310T161010Z
UID:10000281-1794355200-1794441599@mcphersoncounty.ne.gov
SUMMARY:Veteran's Day - Closed
DESCRIPTION:All Offices Closed
URL:https://mcphersoncounty.ne.gov/event/veterans-day/2026-11-11/
CATEGORIES:Holiday
END:VEVENT
BEGIN:VEVENT
DTSTART;VALUE=DATE:20261126
DTEND;VALUE=DATE:20261128
DTSTAMP:20260422T033412
CREATED:20240429T211743Z
LAST-MODIFIED:20260310T160942Z
UID:10000277-1795651200-1795823999@mcphersoncounty.ne.gov
SUMMARY:Thanksgiving - Closed
DESCRIPTION:All Offices Closed
URL:https://mcphersoncounty.ne.gov/event/thanksgiving/2026-11-26/
CATEGORIES:Holiday
END:VEVENT
BEGIN:VEVENT
DTSTART;TZID=America/Chicago:20261209T090000
DTEND;TZID=America/Chicago:20261209T090000
DTSTAMP:20260422T033412
CREATED:20250128T180108Z
LAST-MODIFIED:20260305T164819Z
UID:10000472-1796806800-1796806800@mcphersoncounty.ne.gov
SUMMARY:County Board Meeting
DESCRIPTION:This is a county board meeting. An agenda can be found on the Board Meetings page.
URL:https://mcphersoncounty.ne.gov/event/county-board-meeting-2/2026-12-09/
LOCATION:McPherson County Courthouse\, 500 N Anderson St\, Tryon\, NE\, 69167\, United States
CATEGORIES:County Board Meeting
ATTACH;FMTTYPE=image/jpeg:/wp-content/uploads/sites/26/2024/09/townhall.jpg
END:VEVENT
BEGIN:VEVENT
DTSTART;VALUE=DATE:20261225
DTEND;VALUE=DATE:20261226
DTSTAMP:20260422T033412
CREATED:20240429T211958Z
LAST-MODIFIED:20260310T160924Z
UID:10000273-1798156800-1798243199@mcphersoncounty.ne.gov
SUMMARY:Christmas - Closed
DESCRIPTION:All Offices Closed
URL:https://mcphersoncounty.ne.gov/event/christmas/2026-12-25/
CATEGORIES:Holiday
END:VEVENT
BEGIN:VEVENT
DTSTART;VALUE=DATE:20270101
DTEND;VALUE=DATE:20270102
DTSTAMP:20260422T033412
CREATED:20240730T161545Z
LAST-MODIFIED:20260310T160859Z
UID:10000308-1798761600-1798847999@mcphersoncounty.ne.gov
SUMMARY:New Year's Day - Closed
DESCRIPTION:All Offices Closed
URL:https://mcphersoncounty.ne.gov/event/new-years-day/2027-01-01/
CATEGORIES:Holiday
END:VEVENT
BEGIN:VEVENT
DTSTART;TZID=America/Chicago:20270113T090000
DTEND;TZID=America/Chicago:20270113T090000
DTSTAMP:20260422T033412
CREATED:20250128T180108Z
LAST-MODIFIED:20260305T164819Z
UID:10000473-1799830800-1799830800@mcphersoncounty.ne.gov
SUMMARY:County Board Meeting
DESCRIPTION:This is a county board meeting. An agenda can be found on the Board Meetings page.
URL:https://mcphersoncounty.ne.gov/event/county-board-meeting-2/2027-01-13/
LOCATION:McPherson County Courthouse\, 500 N Anderson St\, Tryon\, NE\, 69167\, United States
CATEGORIES:County Board Meeting
ATTACH;FMTTYPE=image/jpeg:/wp-content/uploads/sites/26/2024/09/townhall.jpg
END:VEVENT
BEGIN:VEVENT
DTSTART;VALUE=DATE:20270118
DTEND;VALUE=DATE:20270119
DTSTAMP:20260422T033412
CREATED:20240730T161350Z
LAST-MODIFIED:20260310T160839Z
UID:10000527-1800230400-1800316799@mcphersoncounty.ne.gov
SUMMARY:Martin Luther King Jr. Day - Closed
DESCRIPTION:All Offices Closed.
URL:https://mcphersoncounty.ne.gov/event/martin-luther-king-jr-day/2027-01-18/
CATEGORIES:Holiday
END:VEVENT
BEGIN:VEVENT
DTSTART;TZID=America/Chicago:20270210T090000
DTEND;TZID=America/Chicago:20270210T090000
DTSTAMP:20260422T033412
CREATED:20250128T180108Z
LAST-MODIFIED:20260305T164819Z
UID:10000474-1802250000-1802250000@mcphersoncounty.ne.gov
SUMMARY:County Board Meeting
DESCRIPTION:This is a county board meeting. An agenda can be found on the Board Meetings page.
URL:https://mcphersoncounty.ne.gov/event/county-board-meeting-2/2027-02-10/
LOCATION:McPherson County Courthouse\, 500 N Anderson St\, Tryon\, NE\, 69167\, United States
CATEGORIES:County Board Meeting
ATTACH;FMTTYPE=image/jpeg:/wp-content/uploads/sites/26/2024/09/townhall.jpg
END:VEVENT
BEGIN:VEVENT
DTSTART;VALUE=DATE:20270215
DTEND;VALUE=DATE:20270216
DTSTAMP:20260422T033412
CREATED:20240821T153425Z
LAST-MODIFIED:20260310T160810Z
UID:10000313-1802649600-1802735999@mcphersoncounty.ne.gov
SUMMARY:President's Day - Closed
DESCRIPTION:All Offices Closed
URL:https://mcphersoncounty.ne.gov/event/presidents-day/2027-02-15/
CATEGORIES:Holiday
END:VEVENT
BEGIN:VEVENT
DTSTART;TZID=America/Chicago:20270310T090000
DTEND;TZID=America/Chicago:20270310T090000
DTSTAMP:20260422T033412
CREATED:20250128T180108Z
LAST-MODIFIED:20260305T164819Z
UID:10000475-1804669200-1804669200@mcphersoncounty.ne.gov
SUMMARY:County Board Meeting
DESCRIPTION:This is a county board meeting. An agenda can be found on the Board Meetings page.
URL:https://mcphersoncounty.ne.gov/event/county-board-meeting-2/2027-03-10/
LOCATION:McPherson County Courthouse\, 500 N Anderson St\, Tryon\, NE\, 69167\, United States
CATEGORIES:County Board Meeting
ATTACH;FMTTYPE=image/jpeg:/wp-content/uploads/sites/26/2024/09/townhall.jpg
END:VEVENT
BEGIN:VEVENT
DTSTART;TZID=America/Chicago:20270414T090000
DTEND;TZID=America/Chicago:20270414T090000
DTSTAMP:20260422T033412
CREATED:20250128T180108Z
LAST-MODIFIED:20260305T164819Z
UID:10000476-1807693200-1807693200@mcphersoncounty.ne.gov
SUMMARY:County Board Meeting
DESCRIPTION:This is a county board meeting. An agenda can be found on the Board Meetings page.
URL:https://mcphersoncounty.ne.gov/event/county-board-meeting-2/2027-04-14/
LOCATION:McPherson County Courthouse\, 500 N Anderson St\, Tryon\, NE\, 69167\, United States
CATEGORIES:County Board Meeting
ATTACH;FMTTYPE=image/jpeg:/wp-content/uploads/sites/26/2024/09/townhall.jpg
END:VEVENT
BEGIN:VEVENT
DTSTART;TZID=America/Chicago:20270512T090000
DTEND;TZID=America/Chicago:20270512T090000
DTSTAMP:20260422T033412
CREATED:20250128T180108Z
LAST-MODIFIED:20260305T164819Z
UID:10000477-1810112400-1810112400@mcphersoncounty.ne.gov
SUMMARY:County Board Meeting
DESCRIPTION:This is a county board meeting. An agenda can be found on the Board Meetings page.
URL:https://mcphersoncounty.ne.gov/event/county-board-meeting-2/2027-05-12/
LOCATION:McPherson County Courthouse\, 500 N Anderson St\, Tryon\, NE\, 69167\, United States
CATEGORIES:County Board Meeting
ATTACH;FMTTYPE=image/jpeg:/wp-content/uploads/sites/26/2024/09/townhall.jpg
END:VEVENT
BEGIN:VEVENT
DTSTART;VALUE=DATE:20270524
DTEND;VALUE=DATE:20270525
DTSTAMP:20260422T033412
CREATED:20240429T202532Z
LAST-MODIFIED:20260310T161111Z
UID:10000020-1811116800-1811203199@mcphersoncounty.ne.gov
SUMMARY:Memorial Day - Closed
DESCRIPTION:All Offices Closed
URL:https://mcphersoncounty.ne.gov/event/memorial-day/2027-05-24/
CATEGORIES:Holiday
END:VEVENT
BEGIN:VEVENT
DTSTART;TZID=America/Chicago:20270609T090000
DTEND;TZID=America/Chicago:20270609T090000
DTSTAMP:20260422T033412
CREATED:20250128T180108Z
LAST-MODIFIED:20260305T164819Z
UID:10000478-1812531600-1812531600@mcphersoncounty.ne.gov
SUMMARY:County Board Meeting
DESCRIPTION:This is a county board meeting. An agenda can be found on the Board Meetings page.
URL:https://mcphersoncounty.ne.gov/event/county-board-meeting-2/2027-06-09/
LOCATION:McPherson County Courthouse\, 500 N Anderson St\, Tryon\, NE\, 69167\, United States
CATEGORIES:County Board Meeting
ATTACH;FMTTYPE=image/jpeg:/wp-content/uploads/sites/26/2024/09/townhall.jpg
END:VEVENT
BEGIN:VEVENT
DTSTART;VALUE=DATE:20270619
DTEND;VALUE=DATE:20270620
DTSTAMP:20260422T033412
CREATED:20240429T211306Z
LAST-MODIFIED:20260310T161103Z
UID:10000295-1813363200-1813449599@mcphersoncounty.ne.gov
SUMMARY:Juneteenth - Closed
DESCRIPTION:All Offices Closed
URL:https://mcphersoncounty.ne.gov/event/juneteenth/2027-06-19/
CATEGORIES:Holiday
END:VEVENT
BEGIN:VEVENT
DTSTART;TZID=America/Chicago:20270714T090000
DTEND;TZID=America/Chicago:20270714T090000
DTSTAMP:20260422T033412
CREATED:20250128T180108Z
LAST-MODIFIED:20260305T164819Z
UID:10000479-1815555600-1815555600@mcphersoncounty.ne.gov
SUMMARY:County Board Meeting
DESCRIPTION:This is a county board meeting. An agenda can be found on the Board Meetings page.
URL:https://mcphersoncounty.ne.gov/event/county-board-meeting-2/2027-07-14/
LOCATION:McPherson County Courthouse\, 500 N Anderson St\, Tryon\, NE\, 69167\, United States
CATEGORIES:County Board Meeting
ATTACH;FMTTYPE=image/jpeg:/wp-content/uploads/sites/26/2024/09/townhall.jpg
END:VEVENT
BEGIN:VEVENT
DTSTART;TZID=America/Chicago:20270811T090000
DTEND;TZID=America/Chicago:20270811T090000
DTSTAMP:20260422T033412
CREATED:20250128T180108Z
LAST-MODIFIED:20260305T164819Z
UID:10000480-1817974800-1817974800@mcphersoncounty.ne.gov
SUMMARY:County Board Meeting
DESCRIPTION:This is a county board meeting. An agenda can be found on the Board Meetings page.
URL:https://mcphersoncounty.ne.gov/event/county-board-meeting-2/2027-08-11/
LOCATION:McPherson County Courthouse\, 500 N Anderson St\, Tryon\, NE\, 69167\, United States
CATEGORIES:County Board Meeting
ATTACH;FMTTYPE=image/jpeg:/wp-content/uploads/sites/26/2024/09/townhall.jpg
END:VEVENT
BEGIN:VEVENT
DTSTART;VALUE=DATE:20270906
DTEND;VALUE=DATE:20270907
DTSTAMP:20260422T033412
CREATED:20240726T143020Z
LAST-MODIFIED:20260310T161024Z
UID:10000330-1820188800-1820275199@mcphersoncounty.ne.gov
SUMMARY:Labor Day - Closed
DESCRIPTION:All Offices Closed
URL:https://mcphersoncounty.ne.gov/event/labor-day/2027-09-06/
CATEGORIES:Holiday
END:VEVENT
END:VCALENDAR